BEGIN:VCALENDAR
VERSION:2.0
PRODID:-//Library Market//iCal Export//EN
BEGIN:VEVENT
SUMMARY:Garden Yoga
UID:76494
DTSTAMP:20260423T203600Z
DTSTART:20260709T220000Z
DTEND:20260709T230000Z
LOCATION:Crest Hill Branch, 20670 City Center Blvd, Crest Hill, IL 60403, 
 United States
ROOM: Backyard
DESCRIPTION:Relax your body and mind with yoga in our backyard&#039;s gard
 en! No previous experience is necessary - all levels are welcome.Bring a m
 at and water, and wear comfy clothes!
URL:https://whiteoak.librarycalendar.com/event/garden-yoga-76494
END:VEVENT
END:VCALENDAR
