BEGIN:VCALENDAR
VERSION:2.0
PRODID:-//Library Market//iCal Export//EN
BEGIN:VEVENT
SUMMARY:Craft Night: Shrinky Dinks
UID:75622
DTSTAMP:20260424T103000Z
DTSTART:20260722T213000Z
DTEND:20260722T223000Z
LOCATION:201 W. Normantown Rd, Romeoville, IL 60446, United States
ROOM: Children&#039;s Program Room
DESCRIPTION:Join us for a crafty evening and make your very own shrinky di
 nks at the library! All supplies will be provided. Registration is require
 d.  This program is intended for those age 5-12.   
URL:https://whiteoak.librarycalendar.com/event/craft-night-shrinky-dinks-7
 5622
END:VEVENT
END:VCALENDAR
