BEGIN:VCALENDAR
VERSION:2.0
PRODID:-//Library Market//iCal Export//EN
BEGIN:VEVENT
SUMMARY:Toddler Time
UID:72374
DTSTAMP:20260419T141400Z
DTSTART:20260729T153000Z
DTEND:20260729T160000Z
LOCATION:Crest Hill Branch, 20670 City Center Blvd, Crest Hill, IL 60403, 
 United States
ROOM: Children&#039;s Program Room
DESCRIPTION:
URL:https://whiteoak.librarycalendar.com/event/toddler-time-72374
END:VEVENT
END:VCALENDAR
