BEGIN:VCALENDAR
VERSION:2.0
PRODID:-//Library Market//iCal Export//EN
BEGIN:VEVENT
SUMMARY:Music in Motion
UID:71304
DTSTAMP:20260420T080000Z
DTSTART:20260709T143000Z
DTEND:20260709T150000Z
LOCATION:121 E. 8th St, Lockport, IL 60441, United States
ROOM: Meeting Room A/B
DESCRIPTION:Music in Motion is a musical journey filled with catchy tunes,
  dancing, and hands-on instrument exploration. Help your child foster a lo
 ve for music while encouraging self-expression and confidence.
URL:https://whiteoak.librarycalendar.com/event/music-motion-71304
END:VEVENT
END:VCALENDAR
