BEGIN:VCALENDAR
VERSION:2.0
PRODID:-//Library Market//iCal Export//EN
BEGIN:VEVENT
SUMMARY:Unearth a Story: Insects in Amber
UID:68896
DTSTAMP:20260424T162800Z
DTSTART:20260701T213000Z
DTEND:20260701T223000Z
LOCATION:201 W. Normantown Rd, Romeoville, IL 60446, United States
ROOM: Children&#039;s Program Room
DESCRIPTION:Create your own slime and recreate what would happen to insect
 s when they were caught in tree resin!Â Â Intended for those aged 5-12.Â Â
  Â 
URL:https://whiteoak.librarycalendar.com/event/insects-amber-placeholder-6
 8896
END:VEVENT
END:VCALENDAR
