BEGIN:VCALENDAR
VERSION:2.0
PRODID:-//Library Market//iCal Export//EN
BEGIN:VEVENT
SUMMARY:Toddler Time
UID:68809
DTSTAMP:20260422T224800Z
DTSTART:20260702T151500Z
DTEND:20260702T154500Z
LOCATION:121 E. 8th St, Lockport, IL 60441, United States
ROOM: Children&#039;s Program Room
DESCRIPTION:Journey into a world of imagination with Toddler Time! Colorfu
 l storytelling, interactive activities, and delightful rhymes will foster 
 a love for books and learning. This engaging program is specifically desig
 ned to spark curiosity and creativity in your child.
URL:https://whiteoak.librarycalendar.com/event/toddler-time-68809
END:VEVENT
END:VCALENDAR
