BEGIN:VCALENDAR
VERSION:2.0
PRODID:-//Library Market//iCal Export//EN
BEGIN:VEVENT
SUMMARY:Computer Class: Ancestry Library Edition
UID:67108
DTSTAMP:20260420T002700Z
DTSTART:20260710T000000Z
DTEND:20260710T013000Z
LOCATION:121 E. 8th St, Lockport, IL 60441, United States
ROOM: Computer Lab
DESCRIPTION:
URL:https://whiteoak.librarycalendar.com/event/computer-class-ancestry-671
 08
END:VEVENT
END:VCALENDAR
