BEGIN:VCALENDAR
VERSION:2.0
PRODID:-//Library Market//iCal Export//EN
BEGIN:VEVENT
SUMMARY:Create &amp; Sip: Moon Phases Mobile
UID:66991
DTSTAMP:20260423T203600Z
DTSTART:20260725T190000Z
DTEND:20260725T203000Z
LOCATION:121 E. 8th St, Lockport, IL 60441, United States
ROOM: Meeting Room A/B
DESCRIPTION:Together we will customize and assemble a decorative mobile in
 spired by the many different phases of the moon--all while enjoying some w
 ine. Whether you hang it from your ceiling or decorate one of your walls, 
 your mobile will surely bring some lunar serenity to your home.
URL:https://whiteoak.librarycalendar.com/event/create-sip-moon-phases-mobi
 le-66991
END:VEVENT
END:VCALENDAR
