BEGIN:VCALENDAR
VERSION:2.0
PRODID:-//Library Market//iCal Export//EN
BEGIN:VEVENT
SUMMARY:Summer Beer Tasting with Scott Pointon
UID:66618
DTSTAMP:20260420T002700Z
DTSTART:20260709T000000Z
DTEND:20260709T013000Z
LOCATION:Crest Hill Branch, 20670 City Center Blvd, Crest Hill, IL 60403, 
 United States
ROOM: Meeting Room A/B
DESCRIPTION:The Crest Hill Branch welcomes award-winning craft beer home b
 rewer Scott Pointon for a fun and informative evening of sampling several 
 summer specialty beers. Enjoy a guided tasting of the crisp and refreshing
  flavors of the wheat beers, pilsners and session IPA&#039;s that are perf
 ect for a hot summer day.Scott has previously been named Midwest Home Brew
 er of the Year and has been home brewing a variety of beer styles since 20
 06.
URL:https://whiteoak.librarycalendar.com/event/Summer-Beer-Tasting-Scott-P
 ointon
END:VEVENT
END:VCALENDAR
