BEGIN:VCALENDAR
VERSION:2.0
PRODID:-//Library Market//iCal Export//EN
BEGIN:VEVENT
SUMMARY:Donuts With Dad
UID:58317
DTSTAMP:20260420T002700Z
DTSTART:20260620T150000Z
DTEND:20260620T163000Z
LOCATION:Crest Hill Branch, 20670 City Center Blvd, Crest Hill, IL 60403, 
 United States
ROOM: Children&#039;s Program Room
DESCRIPTION:Come out and celebrate Dad! Join us as we have donuts with Dad
 . We will play games, do crafts, and of course, eat donuts!
URL:https://whiteoak.librarycalendar.com/event/donuts-dad-58317
END:VEVENT
END:VCALENDAR
