BEGIN:VCALENDAR
VERSION:2.0
PRODID:-//Library Market//iCal Export//EN
BEGIN:VEVENT
SUMMARY:Resurrection Mary, Chicago’s Most Beloved Spirit: Presented by R
 ay Johnson
UID:52021
DTSTAMP:20260419T115900Z
DTSTART:20260310T000000Z
DTEND:20260310T013000Z
LOCATION:Crest Hill Branch, 20670 City Center Blvd, Crest Hill, IL 60403, 
 United States
ROOM: Meeting Room A/B
DESCRIPTION:Who is or was “Resurrection Mary” and what makes the Chica
 go version of this “Vanishing Hitchhiker” legend so special? Where did
  the story start? What are the facts? Are people still seeing Mary’s gho
 st today?Join presenter Ray Johnson to get answers, and to ask more questi
 ons! Ray Johnson is a former criminal investigator, author, historian, and
  lecturer. He is the owner and founder of Johnson Research Services and si
 nce 2005 has conducted historical research for television production compa
 nies, documentarians, authors, attorneys, and family historians. He has be
 en featured on television shows and documentaries on Discovery ID, History
  Channel, PBS, BBC and has appeared on numerous local television shows and
  print media.
URL:https://whiteoak.librarycalendar.com/event/resurrection-mary-chicagos-
 most-beloved-spirit-presented-ray-johnson-52021
END:VEVENT
END:VCALENDAR
