BEGIN:VCALENDAR
VERSION:2.0
PRODID:-//Library Market//iCal Export//EN
BEGIN:VEVENT
SUMMARY:Teen &amp; Tween Art Club: Book Bedazzling
UID:51974
DTSTAMP:20260419T141400Z
DTSTART:20260715T000000Z
DTEND:20260715T013000Z
LOCATION:Crest Hill Branch, 20670 City Center Blvd, Crest Hill, IL 60403, 
 United States
ROOM: Meeting Room A/B
DESCRIPTION:Ever heard of book bedazzling? Visit the library to create you
 r own sparkly work of art with your favorite book you bring, or a book pro
 vided. Join us for a special Tween and Teen Art Club to get creative toget
 her!   
URL:https://whiteoak.librarycalendar.com/event/Tween-and-Teen-Book-Bedazzl
 ing
END:VEVENT
END:VCALENDAR
