BEGIN:VCALENDAR
VERSION:2.0
PRODID:-//Library Market//iCal Export//EN
BEGIN:VEVENT
SUMMARY:Hooks, Needles, &amp; More
UID:46186
DTSTAMP:20260420T002700Z
DTSTART:20260701T233000Z
DTEND:20260702T013000Z
LOCATION:121 E. 8th St, Lockport, IL 60441, United States
ROOM: Meeting Room A/B
DESCRIPTION:Bring your needlework, or other craft projects, and sit back a
 nd enjoy chatting and sharing skills with other &quot;crafters.&quot; Regi
 stration preferred, but not required.
URL:https://whiteoak.librarycalendar.com/event/hooks-needles-more-46186
END:VEVENT
END:VCALENDAR
